BEGIN:VCALENDAR
VERSION:2.0
PRODID:-//Kawartha Adventure Rentals - ECPv6.15.17.1//NONSGML v1.0//EN
CALSCALE:GREGORIAN
METHOD:PUBLISH
X-ORIGINAL-URL:https://www.kawarthaadventurerentals.ca
X-WR-CALDESC:Events for Kawartha Adventure Rentals
REFRESH-INTERVAL;VALUE=DURATION:PT1H
X-Robots-Tag:noindex
X-PUBLISHED-TTL:PT1H
BEGIN:VTIMEZONE
TZID:America/Toronto
BEGIN:DAYLIGHT
TZOFFSETFROM:-0500
TZOFFSETTO:-0400
TZNAME:EDT
DTSTART:20250309T070000
END:DAYLIGHT
BEGIN:STANDARD
TZOFFSETFROM:-0400
TZOFFSETTO:-0500
TZNAME:EST
DTSTART:20251102T060000
END:STANDARD
BEGIN:DAYLIGHT
TZOFFSETFROM:-0500
TZOFFSETTO:-0400
TZNAME:EDT
DTSTART:20260308T070000
END:DAYLIGHT
BEGIN:STANDARD
TZOFFSETFROM:-0400
TZOFFSETTO:-0500
TZNAME:EST
DTSTART:20261101T060000
END:STANDARD
BEGIN:DAYLIGHT
TZOFFSETFROM:-0500
TZOFFSETTO:-0400
TZNAME:EDT
DTSTART:20270314T070000
END:DAYLIGHT
BEGIN:STANDARD
TZOFFSETFROM:-0400
TZOFFSETTO:-0500
TZNAME:EST
DTSTART:20271107T060000
END:STANDARD
END:VTIMEZONE
BEGIN:VEVENT
DTSTART;TZID=America/Toronto:20260220T100000
DTEND;TZID=America/Toronto:20260222T170000
DTSTAMP:20260423T173035
CREATED:20260405T010656Z
LAST-MODIFIED:20260405T012435Z
UID:4165-1771581600-1771779600@www.kawarthaadventurerentals.ca
SUMMARY:The Outdoor Adventure Show Toronto 2026
DESCRIPTION:Join Kawartha Adventure Rentals at the Toronto Outdoor Adventure Show\, February 20–22\, 2026\, at The International Centre (Hall #5)! Visit us at Booth #860\, where we’ll be sharing the space with our friends from H2O Canoe. \nExplore the latest in outdoor gear\, discover new destinations\, and get inspired for your next adventure. Whether you’re into paddling\, camping\, hiking\, or just love the outdoors\, this is a must-attend event for all experience levels. \nShow Hours:\nFriday: 10am – 6pm\nSaturday: 10am – 6pm\nSunday: 10am – 5pm \nWe look forward to seeing you there!
URL:https://www.kawarthaadventurerentals.ca/event/the-outdoor-adventure-show-toronto/
LOCATION:International Centre – Hall 5\, International Centre - Hall 5 - 6900 Airport Road\, Mississauga\, ON\, Canada\, L4V 1E8\, Mississauga\, ontario\, L4V 1E8\, Canada
ATTACH;FMTTYPE=image/png:https://www.kawarthaadventurerentals.ca/wp-content/uploads/2026/04/IMG_0444.png
END:VEVENT
END:VCALENDAR