BEGIN:VCALENDAR
VERSION:2.0
PRODID:-//Kawartha Adventure Rentals - ECPv6.15.17.1//NONSGML v1.0//EN
CALSCALE:GREGORIAN
METHOD:PUBLISH
X-WR-CALNAME:Kawartha Adventure Rentals
X-ORIGINAL-URL:https://www.kawarthaadventurerentals.ca
X-WR-CALDESC:Events for Kawartha Adventure Rentals
REFRESH-INTERVAL;VALUE=DURATION:PT1H
X-Robots-Tag:noindex
X-PUBLISHED-TTL:PT1H
BEGIN:VTIMEZONE
TZID:America/Toronto
BEGIN:DAYLIGHT
TZOFFSETFROM:-0500
TZOFFSETTO:-0400
TZNAME:EDT
DTSTART:20250309T070000
END:DAYLIGHT
BEGIN:STANDARD
TZOFFSETFROM:-0400
TZOFFSETTO:-0500
TZNAME:EST
DTSTART:20251102T060000
END:STANDARD
BEGIN:DAYLIGHT
TZOFFSETFROM:-0500
TZOFFSETTO:-0400
TZNAME:EDT
DTSTART:20260308T070000
END:DAYLIGHT
BEGIN:STANDARD
TZOFFSETFROM:-0400
TZOFFSETTO:-0500
TZNAME:EST
DTSTART:20261101T060000
END:STANDARD
BEGIN:DAYLIGHT
TZOFFSETFROM:-0500
TZOFFSETTO:-0400
TZNAME:EDT
DTSTART:20270314T070000
END:DAYLIGHT
BEGIN:STANDARD
TZOFFSETFROM:-0400
TZOFFSETTO:-0500
TZNAME:EST
DTSTART:20271107T060000
END:STANDARD
END:VTIMEZONE
BEGIN:VEVENT
DTSTART;TZID=America/Toronto:20260220T100000
DTEND;TZID=America/Toronto:20260222T170000
DTSTAMP:20260423T185904
CREATED:20260405T010656Z
LAST-MODIFIED:20260405T012435Z
UID:4165-1771581600-1771779600@www.kawarthaadventurerentals.ca
SUMMARY:The Outdoor Adventure Show Toronto 2026
DESCRIPTION:Join Kawartha Adventure Rentals at the Toronto Outdoor Adventure Show\, February 20–22\, 2026\, at The International Centre (Hall #5)! Visit us at Booth #860\, where we’ll be sharing the space with our friends from H2O Canoe. \nExplore the latest in outdoor gear\, discover new destinations\, and get inspired for your next adventure. Whether you’re into paddling\, camping\, hiking\, or just love the outdoors\, this is a must-attend event for all experience levels. \nShow Hours:\nFriday: 10am – 6pm\nSaturday: 10am – 6pm\nSunday: 10am – 5pm \nWe look forward to seeing you there!
URL:https://www.kawarthaadventurerentals.ca/event/the-outdoor-adventure-show-toronto/
LOCATION:International Centre – Hall 5\, International Centre - Hall 5 - 6900 Airport Road\, Mississauga\, ON\, Canada\, L4V 1E8\, Mississauga\, ontario\, L4V 1E8\, Canada
ATTACH;FMTTYPE=image/png:https://www.kawarthaadventurerentals.ca/wp-content/uploads/2026/04/IMG_0444.png
END:VEVENT
BEGIN:VEVENT
DTSTART;TZID=America/Toronto:20260326T120000
DTEND;TZID=America/Toronto:20260329T170000
DTSTAMP:20260423T185904
CREATED:20260325T212358Z
LAST-MODIFIED:20260325T214100Z
UID:4081-1774526400-1774803600@www.kawarthaadventurerentals.ca
SUMMARY:2026 Cottage Life Spring Show
DESCRIPTION:Open up cottage season with Kawartha Adventure Rentals at the Spring Cottage Life Show. Meet 500+ vendors and experts—explore the latest in docks\, innovative construction products\, and eco-friendly solutions\, and be sure to stop by our booth. \nDownload the show map \nThursday\, March 26 – 12:00 pm to 7:00 pm\nFriday\, March 27 – 10:00 am to 8:00 pm\nSaturday\, March 28 – 9:00 am to 7:00 pm\nSunday\, March 29 – 10am to 5pm \nDiscover stylish décor\, artisanal crafts\, food and entertaining ideas\, exciting water toys\, and so much more.
URL:https://www.kawarthaadventurerentals.ca/event/2026-cottage-life-spring-show/
LOCATION:The International Centre\, 6900 Airport Road\, Mississauga\, ON\, L4V 1E8\, Canada
ATTACH;FMTTYPE=image/png:https://www.kawarthaadventurerentals.ca/wp-content/uploads/2026/03/CL_SpringShow2026_Logo.png
END:VEVENT
BEGIN:VEVENT
DTSTART;TZID=America/Toronto:20260620T110000
DTEND;TZID=America/Toronto:20260620T230000
DTSTAMP:20260423T185904
CREATED:20251117T160628Z
LAST-MODIFIED:20260325T120537Z
UID:3645-1781953200-1781996400@www.kawarthaadventurerentals.ca
SUMMARY:2026 Fresh Water Summit
DESCRIPTION:Join us for a weekend full of fun at Canada’s Fresh Water Summit Festival and enjoy some warm Coboconk hospitality. \n11:00 am to 3:00 pm – Family Festival Day\n7:00 pm to 11:00 pm – Party in the Park \nThe Summit Festival is more than just an excuse to come together as a community. It is also a celebration of history and a way to commemorate the value and importance of fresh water in Canada.
URL:https://www.kawarthaadventurerentals.ca/event/2026-fresh-water-summit/
LOCATION:Lion’s Park\, 6685 Highway 35\, Coboconk\, ON\, K0M 2B0\, Canada
ATTACH;FMTTYPE=image/webp:https://www.kawarthaadventurerentals.ca/wp-content/uploads/2025/11/TheSaturdayofFathersDayWeekend.png.webp
ORGANIZER;CN="Coboconk%2C Norland & Area Chamber of Commerce":MAILTO:chamber@coboconknorland.ca
END:VEVENT
END:VCALENDAR