BEGIN:VCALENDAR
VERSION:2.0
PRODID:-//Kawartha Adventure Rentals - ECPv6.15.17.1//NONSGML v1.0//EN
CALSCALE:GREGORIAN
METHOD:PUBLISH
X-ORIGINAL-URL:https://www.kawarthaadventurerentals.ca
X-WR-CALDESC:Events for Kawartha Adventure Rentals
REFRESH-INTERVAL;VALUE=DURATION:PT1H
X-Robots-Tag:noindex
X-PUBLISHED-TTL:PT1H
BEGIN:VTIMEZONE
TZID:America/Toronto
BEGIN:DAYLIGHT
TZOFFSETFROM:-0500
TZOFFSETTO:-0400
TZNAME:EDT
DTSTART:20250309T070000
END:DAYLIGHT
BEGIN:STANDARD
TZOFFSETFROM:-0400
TZOFFSETTO:-0500
TZNAME:EST
DTSTART:20251102T060000
END:STANDARD
BEGIN:DAYLIGHT
TZOFFSETFROM:-0500
TZOFFSETTO:-0400
TZNAME:EDT
DTSTART:20260308T070000
END:DAYLIGHT
BEGIN:STANDARD
TZOFFSETFROM:-0400
TZOFFSETTO:-0500
TZNAME:EST
DTSTART:20261101T060000
END:STANDARD
BEGIN:DAYLIGHT
TZOFFSETFROM:-0500
TZOFFSETTO:-0400
TZNAME:EDT
DTSTART:20270314T070000
END:DAYLIGHT
BEGIN:STANDARD
TZOFFSETFROM:-0400
TZOFFSETTO:-0500
TZNAME:EST
DTSTART:20271107T060000
END:STANDARD
END:VTIMEZONE
BEGIN:VEVENT
DTSTART;TZID=America/Toronto:20260124T100000
DTEND;TZID=America/Toronto:20260125T170000
DTSTAMP:20260423T173040
CREATED:20260405T015425Z
LAST-MODIFIED:20260405T015425Z
UID:4199-1769248800-1769360400@www.kawarthaadventurerentals.ca
SUMMARY:Hamilton Adventure Expo 2026
DESCRIPTION:Join Kawartha Adventure Rentals at the Hamilton Adventure Expo\, January 24–25 at the Ancaster Fairgrounds! Visit our booth to start planning your next backcountry canoe trip in Kawartha Highlands Provincial Park and learn more about our paddling experiences. \nWe’re also proud to promote our “Rent a Canoe – Plant a Tree” initiative\, where we plant a tree for every canoe rental. To help spread the word\, we’ll be giving away free tree saplings for you to take home and plant this spring—while supplies last! \nWhether you’re an outdoor enthusiast or just getting started\, stop by to connect\, get inspired\, and take home a tree to grow your own adventure.
URL:https://www.kawarthaadventurerentals.ca/event/hamilton-adventure-expo-2026/
LOCATION:ANCASTER FAIRGROUNDS\, 630 Trinity Rd S\, Jerseyville\, ontario\, L0R 1R0\, Canada
ATTACH;FMTTYPE=image/avif:https://www.kawarthaadventurerentals.ca/wp-content/uploads/2026/04/d67ef1_223e79ac162f43b9998d11c5050f05ccmv2.png.avif
END:VEVENT
END:VCALENDAR